BEGIN:VCALENDAR
VERSION:2.0
PRODID:-//wp-events-plugin.com//7.2.3.1//EN
TZID:Europe/Rome
X-WR-TIMEZONE:Europe/Rome
BEGIN:VEVENT
UID:2605@faenzaeventi.it
DTSTART;TZID=Europe/Rome:20260424T210000
DTEND;TZID=Europe/Rome:20260426T210000
DTSTAMP:20260122T115929Z
URL:https://faenzaeventi.it/eventi/spettacoli/vivere-bomont-teatro-dei-fil
 odrammatici-24-26-aprile-2026/
SUMMARY:Vivere Bomont - Teatro dei Filodrammatici - 24-26 aprile 2026
DESCRIPTION:
ATTACH;FMTTYPE=image/jpeg:https://media.faestate.it/faestate/uploads/2026/
 01/612441646_18070118735429302_1489831753278150493_n.avif
CATEGORIES:Spettacoli
END:VEVENT
BEGIN:VTIMEZONE
TZID:Europe/Rome
X-LIC-LOCATION:Europe/Rome
BEGIN:DAYLIGHT
DTSTART:20260329T030000
TZOFFSETFROM:+0100
TZOFFSETTO:+0200
TZNAME:CEST
END:DAYLIGHT
END:VTIMEZONE
END:VCALENDAR