BEGIN:VCALENDAR
VERSION:2.0
PRODID:-//wp-events-plugin.com//7.2.3.1//EN
TZID:Europe/Rome
X-WR-TIMEZONE:Europe/Rome
BEGIN:VEVENT
UID:2210@faenzaeventi.it
DTSTART;TZID=Europe/Rome:20260424T210000
DTEND;TZID=Europe/Rome:20260424T210000
DTSTAMP:20251103T142725Z
URL:https://faenzaeventi.it/eventi/spettacoli/il-bunker-teatro-due-mondi-2
 4-aprile-2026/
SUMMARY:Il Bunker - Teatro Due Mondi - 24 aprile 2026
DESCRIPTION:
ATTACH;FMTTYPE=image/jpeg:https://media.faestate.it/faestate/uploads/2025/
 11/24-04-teatroduemondi.avif
CATEGORIES:Spettacoli
END:VEVENT
BEGIN:VTIMEZONE
TZID:Europe/Rome
X-LIC-LOCATION:Europe/Rome
BEGIN:DAYLIGHT
DTSTART:20260329T030000
TZOFFSETFROM:+0100
TZOFFSETTO:+0200
TZNAME:CEST
END:DAYLIGHT
END:VTIMEZONE
END:VCALENDAR