BEGIN:VCALENDAR
VERSION:2.0
PRODID:-//wp-events-plugin.com//7.2.3.1//EN
TZID:Europe/Rome
X-WR-TIMEZONE:Europe/Rome
BEGIN:VEVENT
UID:3128@faenzaeventi.it
DTSTART;TZID=Europe/Rome:20260424T190000
DTEND;TZID=Europe/Rome:20260424T203000
DTSTAMP:20260410T090023Z
URL:https://faenzaeventi.it/eventi/intrattenimento/intercultural-night-gre
 ek-night-24-aprile-2026/
SUMMARY:Intercultural night - Greek night! - 24 aprile 2026
DESCRIPTION:
ATTACH;FMTTYPE=image/jpeg:https://media.faestate.it/faestate/uploads/2026/
 04/69d77dcc9a929.avif
CATEGORIES:Intrattenimento
END:VEVENT
BEGIN:VTIMEZONE
TZID:Europe/Rome
X-LIC-LOCATION:Europe/Rome
BEGIN:DAYLIGHT
DTSTART:20260329T030000
TZOFFSETFROM:+0100
TZOFFSETTO:+0200
TZNAME:CEST
END:DAYLIGHT
END:VTIMEZONE
END:VCALENDAR