BEGIN:VCALENDAR
VERSION:2.0
PRODID:-//wp-events-plugin.com//7.2.3.1//EN
TZID:Europe/Rome
X-WR-TIMEZONE:Europe/Rome
BEGIN:VEVENT
UID:3179@faenzaeventi.it
DTSTART;TZID=Europe/Rome:20260424T223000
DTEND;TZID=Europe/Rome:20260424T223000
DTSTAMP:20260415T104232Z
URL:https://faenzaeventi.it/eventi/intrattenimento/dj-set-gio-alla-festa-d
 i-san-marco-la-notte-dei-giovani-24-aprile-2026/
SUMMARY:Dj Set GIO alla Festa di San Marco - La notte dei giovani - 24 apri
 le 2026
DESCRIPTION:
ATTACH;FMTTYPE=image/jpeg:https://media.faestate.it/faestate/uploads/2026/
 04/1f220f_8eca3d3408444acaa6508d7a59815267mv2.avif
CATEGORIES:Intrattenimento
END:VEVENT
BEGIN:VTIMEZONE
TZID:Europe/Rome
X-LIC-LOCATION:Europe/Rome
BEGIN:DAYLIGHT
DTSTART:20260329T030000
TZOFFSETFROM:+0100
TZOFFSETTO:+0200
TZNAME:CEST
END:DAYLIGHT
END:VTIMEZONE
END:VCALENDAR