BEGIN:VCALENDAR
VERSION:2.0
PRODID:-//wp-events-plugin.com//7.2.3.1//EN
TZID:Europe/Rome
X-WR-TIMEZONE:Europe/Rome
BEGIN:VEVENT
UID:3176@faenzaeventi.it
DTSTART;TZID=Europe/Rome:20260428T210000
DTEND;TZID=Europe/Rome:20260428T210000
DTSTAMP:20260414T122558Z
URL:https://faenzaeventi.it/eventi/intrattenimento/birro-latino-birreria-f
 aenza-28-aprile-2026/
SUMMARY:Birro Latino - Birreria Faenza - 28 aprile 2026
DESCRIPTION:
ATTACH;FMTTYPE=image/jpeg:https://media.faestate.it/faestate/uploads/2026/
 01/476457143_3479225472385626_7185436857081241519_n.avif
CATEGORIES:Intrattenimento
END:VEVENT
BEGIN:VTIMEZONE
TZID:Europe/Rome
X-LIC-LOCATION:Europe/Rome
BEGIN:DAYLIGHT
DTSTART:20260329T030000
TZOFFSETFROM:+0100
TZOFFSETTO:+0200
TZNAME:CEST
END:DAYLIGHT
END:VTIMEZONE
END:VCALENDAR