BEGIN:VCALENDAR
VERSION:2.0
PRODID:-//wp-events-plugin.com//7.2.3.1//EN
TZID:Europe/Rome
X-WR-TIMEZONE:Europe/Rome
BEGIN:VEVENT
UID:3185@faenzaeventi.it
DTSTART;TZID=Europe/Rome:20260423T144500
DTEND;TZID=Europe/Rome:20260423T174500
DTSTAMP:20260415T104139Z
URL:https://faenzaeventi.it/eventi/incontri-e-conferenze/laboratorio-app-b
 uilder-1-incontro-23-aprile-2026/
SUMMARY:Laboratorio App Builder - 1° incontro - 23 aprile 2026
DESCRIPTION:
ATTACH;FMTTYPE=image/jpeg:https://media.faestate.it/faestate/uploads/2026/
 04/app-builder.avif
CATEGORIES:Incontri e Conferenze
END:VEVENT
BEGIN:VTIMEZONE
TZID:Europe/Rome
X-LIC-LOCATION:Europe/Rome
BEGIN:DAYLIGHT
DTSTART:20260329T030000
TZOFFSETFROM:+0100
TZOFFSETTO:+0200
TZNAME:CEST
END:DAYLIGHT
END:VTIMEZONE
END:VCALENDAR